BEGIN:VCALENDAR
VERSION:2.0
PRODID:-//ZContent.net//Zap Calendar 1.0//EN
CALSCALE:GREGORIAN
METHOD:PUBLISH
BEGIN:VEVENT
DTSTAMP:20260423T085512
UID:20220905T130000@energyhub.eu/2319
DTSTART:20220905T130000
DTEND:20220906T210000
SUMMARY:VYKUROVANIE EXTRA 2022
LOCATION: Grand Hotel Bellevue****, Horný Smokovec - Vysoké Tatry
DESCRIPTION:VYKUROVANIE EXTRA 2022: Grand Hotel Bellevue****, Horný Smokovec - Vysoké Tatry
LAST-MODIFIED:20260423T085512
END:VEVENT
END:VCALENDAR
