BEGIN:VCALENDAR
VERSION:2.0
PRODID:-//ZContent.net//Zap Calendar 1.0//EN
CALSCALE:GREGORIAN
METHOD:PUBLISH
BEGIN:VEVENT
DTSTAMP:20260423T044543
UID:20230401T090000@energyhub.eu/2387
DTSTART:20230401T090000
DTEND:20230401T150000
SUMMARY:Aprílové Velikonoce
LOCATION: Elektrárna Ledvice
DESCRIPTION:Aprílové Velikonoce: Elektrárna Ledvice
LAST-MODIFIED:20260423T044543
END:VEVENT
END:VCALENDAR
