BEGIN:VCALENDAR
VERSION:2.0
PRODID:-//ZContent.net//Zap Calendar 1.0//EN
CALSCALE:GREGORIAN
METHOD:PUBLISH
BEGIN:VEVENT
DTSTAMP:20260422T225929
UID:20260427T090000@energyhub.eu/2535
DTSTART:20260427T090000
DTEND:20260427T110000
SUMMARY:Od studentů po experty: Životní příležitosti české jaderné energetiky
LOCATION: enforum event space, Praha 8 - Karlín
DESCRIPTION:Od studentů po experty: Životní příležitosti české jaderné energetiky: enforum event space, Praha 8 - Karlín
LAST-MODIFIED:20260422T225929
END:VEVENT
END:VCALENDAR
